BEGIN:VCALENDAR
VERSION:2.0
PRODID:-//Forty Steps Dance - ECPv6.15.20//NONSGML v1.0//EN
CALSCALE:GREGORIAN
METHOD:PUBLISH
X-ORIGINAL-URL:https://fortystepsdance.org
X-WR-CALDESC:Events for Forty Steps Dance
REFRESH-INTERVAL;VALUE=DURATION:PT1H
X-Robots-Tag:noindex
X-PUBLISHED-TTL:PT1H
BEGIN:VTIMEZONE
TZID:America/New_York
BEGIN:DAYLIGHT
TZOFFSETFROM:-0500
TZOFFSETTO:-0400
TZNAME:EDT
DTSTART:20170312T070000
END:DAYLIGHT
BEGIN:STANDARD
TZOFFSETFROM:-0400
TZOFFSETTO:-0500
TZNAME:EST
DTSTART:20171105T060000
END:STANDARD
BEGIN:DAYLIGHT
TZOFFSETFROM:-0500
TZOFFSETTO:-0400
TZNAME:EDT
DTSTART:20180311T070000
END:DAYLIGHT
BEGIN:STANDARD
TZOFFSETFROM:-0400
TZOFFSETTO:-0500
TZNAME:EST
DTSTART:20181104T060000
END:STANDARD
BEGIN:DAYLIGHT
TZOFFSETFROM:-0500
TZOFFSETTO:-0400
TZNAME:EDT
DTSTART:20190310T070000
END:DAYLIGHT
BEGIN:STANDARD
TZOFFSETFROM:-0400
TZOFFSETTO:-0500
TZNAME:EST
DTSTART:20191103T060000
END:STANDARD
END:VTIMEZONE
BEGIN:VEVENT
DTSTART;TZID=America/New_York:20180922T100000
DTEND;TZID=America/New_York:20180922T123000
DTSTAMP:20260421T055712
CREATED:20180920T133630Z
LAST-MODIFIED:20180920T134428Z
UID:2091-1537610400-1537619400@fortystepsdance.org
SUMMARY:Call for Dancers
DESCRIPTION:Are you interested in performing with Forty Steps Dance? If so\, come to our Open Class & Audition times: \nSaturdays\, Sept. 22 & 29\, 2018\n10:00 am: Modern Class with Artistic Director Sallee Slagle\n11:45 am: Rehearsal \nat Nahant Community Center\, 2nd Floor Serenity Room\n41 Valley Road\, Nahant\, MA 01908 \n\nRehearsals are Saturdays in Nahant.\n\nUpcoming performances include:  \n\nDecember 8-9: 12 Dancers Dancing in Cambridge\nLate March 2019: Forty Steps Dance Concert in Nahant\nJune/July: Outdoor show in Lynn/Swampscott/Nahant/Revere\nMore TBA on the horizon including possible performances in local festivals\, school residencies and more\n\nMore information about Forty Steps Dance may be found on our website or facebook.com/FortyStepsDance \nQuestions? Email sallee@fortystepsdance.org or call 781-599-1476. \nPlease RSVP by emailing Sallee at the address above. \nIf you are interested in auditioning but cannot make one of these times\, please contact Sallee to reschedule.
URL:https://fortystepsdance.org/event/call-for-dancers/
LOCATION:Dance Dimensions studio @ Nahant Community Center\, 41 Valley Road\, Nahant\, MA\, 01908\, United States
CATEGORIES:Audition/Call for Dancers
ATTACH;FMTTYPE=image/jpeg:https://fortystepsdance.org/wp-content/uploads/2018/05/2018-March-Images-Igor-Burlak-10.jpg
ORGANIZER;CN="Forty Steps Dance":MAILTO:sallee@fortystepsdance.org
END:VEVENT
END:VCALENDAR